BEGIN:VCALENDAR
VERSION:2.0
PRODID:-//eventon.com NONSGML v1.0//EN
CALSCALE:GREGORIAN
METHOD:PUBLISH
BEGIN:VEVENT
UID:69eb1fce87fe7
DTSTAMP:20260424T094622
DTSTART:20250905
DTEND:20250907
TZID:Europe/Amsterdam
LOCATION:
SUMMARY:6 september 2025 zijn wij te vinden in het gezellige Aalsmeer op de Jaarmarkt in het centrum
DESCRIPTION: 6 september 2025 zijn wij te vinden in het gezellige Aalsmeer op de Jaarmarkt in het centrum\nhttps://unoskitchen.nl/events/6-september-2025zijn-wij-te-vinden-in-het-gezellige-aalsmeer-op-de-jaarmarkt-in-het-centrum/
URL:https://unoskitchen.nl/events/6-september-2025zijn-wij-te-vinden-in-het-gezellige-aalsmeer-op-de-jaarmarkt-in-het-centrum/
END:VEVENT
END:VCALENDAR