BEGIN:VCALENDAR
VERSION:2.0
PRODID:-//eventon.com NONSGML v1.0//EN
CALSCALE:GREGORIAN
METHOD:PUBLISH
BEGIN:VEVENT
UID:69e74149b9496
DTSTAMP:20260421T112009
DTSTART:20250614T070000Z
DTEND:20250615T150000Z
TZID:Europe/Berlin
LOCATION:
SUMMARY:14 en 15 juni 2025  mogen wij weer  deelnemen aan Markt onder de Linden in Noordwijk binnen\,  kom ook naar de gezelligste markt van Nederland
DESCRIPTION: &nbsp; &nbsp;\nhttps://unoskitchen.nl/events/15-en-16-juni-mogen-wij-weer-deelnemen-aan-markt-onder-de-linden-in-noordwijk-binnen-kom-ook-naar-de-gezelligste-markt-van-nederland/
URL:https://unoskitchen.nl/events/15-en-16-juni-mogen-wij-weer-deelnemen-aan-markt-onder-de-linden-in-noordwijk-binnen-kom-ook-naar-de-gezelligste-markt-van-nederland/
END:VEVENT
END:VCALENDAR