BEGIN:VCALENDAR
VERSION:2.0
PRODID:-//eventon.com NONSGML v1.0//EN
CALSCALE:GREGORIAN
METHOD:PUBLISH
BEGIN:VEVENT
UID:69e631ffd5b23
DTSTAMP:20260420T160239
DTSTART:20240602T090000Z
DTEND:20240602T150000Z
TZID:Europe/Amsterdam
LOCATION:
SUMMARY:2 juni zijn wij op de Lentefair in Zandvoort\,  Er zullen 150-175 kramen worden geplaatst met een hoogwaardig aanbod van lokale ondernemers én externe marktkraamhouders op de Grote Krocht\,  Raadhuisplein\,  Haltestraat\,  Kerkstraat en Kerkplein.
DESCRIPTION: details 2 juni zijn wij op de Lentefair in Zandvoort\, Er zullen 150-175 kramen worden geplaatst met een hoogwaardig aanbod van lokale ondernemers én externe marktkraamhouders op de Grote Krocht\,  Raadhuisplein\,  Haltestraat\,  Kerkstraat en Kerkplein.\nhttps://unoskitchen.nl/events/2-juni-zijn-wij-op-de-lentefair-in-zandvoort/
URL:https://unoskitchen.nl/events/2-juni-zijn-wij-op-de-lentefair-in-zandvoort/
END:VEVENT
END:VCALENDAR